Package: basilisk.utils Version: 1.21.0 Command: /home/rapidbuild/bbs-3.22-bioc-rapid/R/bin/R CMD check --install=check:basilisk.utils.install-out.txt --library=/home/rapidbuild/bbs-3.22-bioc-rapid/R/site-library --timings basilisk.utils_1.21.0.tar.gz StartedAt: 2025-05-09 07:45:25 -0400 (Fri, 09 May 2025) EndedAt: 2025-05-09 07:45:41 -0400 (Fri, 09 May 2025) EllapsedTime: 15.6 seconds RetCode: 0 Status: OK CheckDir: basilisk.utils.Rcheck Warnings: 0