Package: basilisk.utils Version: 1.19.0 Command: /home/rapidbuild/bbs-3.21-bioc-rapid/R/bin/R CMD build --keep-empty-dirs --no-resave-data basilisk.utils StartedAt: 2025-02-06 06:35:09 -0500 (Thu, 06 Feb 2025) EndedAt: 2025-02-06 06:35:13 -0500 (Thu, 06 Feb 2025) EllapsedTime: 4.0 seconds RetCode: 0 Status: OK PackageFile: basilisk.utils_1.19.0.tar.gz PackageFileSize: 235.1 KiB