Package: bamsignals Version: 1.39.0 Command: /home/rapidbuild/bbs-3.21-bioc-rapid/R/bin/R CMD INSTALL bamsignals StartedAt: 2025-02-05 06:17:44 -0500 (Wed, 05 Feb 2025) EndedAt: 2025-02-05 06:18:05 -0500 (Wed, 05 Feb 2025) EllapsedTime: 20.9 seconds RetCode: 0 Status: OK