Package: aroma.light Version: 3.37.0 Command: /home/rapidbuild/bbs-3.21-bioc-rapid/R/bin/R CMD build --keep-empty-dirs --no-resave-data aroma.light StartedAt: 2025-02-11 06:31:10 -0500 (Tue, 11 Feb 2025) EndedAt: 2025-02-11 06:31:11 -0500 (Tue, 11 Feb 2025) EllapsedTime: 1.0 seconds RetCode: 0 Status: OK PackageFile: aroma.light_3.37.0.tar.gz PackageFileSize: 379.3 KiB