Package: apeglm Version: 1.29.0 Command: /home/rapidbuild/bbs-3.21-bioc-rapid/R/bin/R CMD build --keep-empty-dirs --no-resave-data apeglm StartedAt: 2025-02-13 12:30:17 -0500 (Thu, 13 Feb 2025) EndedAt: 2025-02-13 12:31:41 -0500 (Thu, 13 Feb 2025) EllapsedTime: 83.8 seconds RetCode: 0 Status: OK PackageFile: apeglm_1.29.0.tar.gz PackageFileSize: 1.203 MiB