Package: annotate Version: 1.85.0 Command: /home/rapidbuild/bbs-3.21-bioc-rapid/R/bin/R CMD INSTALL annotate StartedAt: 2025-02-06 06:21:47 -0500 (Thu, 06 Feb 2025) EndedAt: 2025-02-06 06:22:01 -0500 (Thu, 06 Feb 2025) EllapsedTime: 14.2 seconds RetCode: 0 Status: OK