Package: annotate Version: 1.87.0 Command: /home/rapidbuild/bbs-3.22-bioc-rapid/R/bin/R CMD check --install=check:annotate.install-out.txt --library=/home/rapidbuild/bbs-3.22-bioc-rapid/R/site-library --timings annotate_1.87.0.tar.gz StartedAt: 2025-05-01 07:41:25 -0400 (Thu, 01 May 2025) EndedAt: 2025-05-01 07:43:50 -0400 (Thu, 01 May 2025) EllapsedTime: 145.3 seconds RetCode: 1 Status: ERROR CheckDir: annotate.Rcheck Warnings: NA