Package: annotate Version: 1.87.0 Command: /home/rapidbuild/bbs-3.22-bioc-rapid/R/bin/R CMD build --keep-empty-dirs --no-resave-data annotate StartedAt: 2025-05-01 06:29:19 -0400 (Thu, 01 May 2025) EndedAt: 2025-05-01 06:30:11 -0400 (Thu, 01 May 2025) EllapsedTime: 51.5 seconds RetCode: 0 Status: OK PackageFile: annotate_1.87.0.tar.gz PackageFileSize: 1.785 MiB