Package: alabaster.schemas Version: 1.9.0 Command: /home/rapidbuild/bbs-3.22-bioc-rapid/R/bin/R CMD INSTALL alabaster.schemas StartedAt: 2025-05-02 06:04:14 -0400 (Fri, 02 May 2025) EndedAt: 2025-05-02 06:04:15 -0400 (Fri, 02 May 2025) EllapsedTime: 1.0 seconds RetCode: 0 Status: OK