Package: alabaster.schemas Version: 1.7.0 Command: /home/rapidbuild/bbs-3.21-bioc-rapid/R/bin/R CMD check --install=check:alabaster.schemas.install-out.txt --library=/home/rapidbuild/bbs-3.21-bioc-rapid/R/site-library --timings alabaster.schemas_1.7.0.tar.gz StartedAt: 2025-02-06 07:50:57 -0500 (Thu, 06 Feb 2025) EndedAt: 2025-02-06 07:51:08 -0500 (Thu, 06 Feb 2025) EllapsedTime: 11.3 seconds RetCode: 0 Status: OK CheckDir: alabaster.schemas.Rcheck Warnings: 0