Package: alabaster.sce Version: 1.7.0 Command: /home/rapidbuild/bbs-3.21-bioc-rapid/R/bin/R CMD INSTALL alabaster.sce StartedAt: 2025-02-05 06:19:33 -0500 (Wed, 05 Feb 2025) EndedAt: 2025-02-05 06:20:00 -0500 (Wed, 05 Feb 2025) EllapsedTime: 27.4 seconds RetCode: 0 Status: OK