Package: alabaster.sce Version: 1.7.0 Command: /home/rapidbuild/bbs-3.21-bioc-rapid/R/bin/R CMD check --install=check:alabaster.sce.install-out.txt --library=/home/rapidbuild/bbs-3.21-bioc-rapid/R/site-library --timings alabaster.sce_1.7.0.tar.gz StartedAt: 2025-02-05 07:49:52 -0500 (Wed, 05 Feb 2025) EndedAt: 2025-02-05 07:53:13 -0500 (Wed, 05 Feb 2025) EllapsedTime: 201.7 seconds RetCode: 0 Status: OK CheckDir: alabaster.sce.Rcheck Warnings: 0