Package: alabaster.ranges Version: 1.9.0 Command: /home/rapidbuild/bbs-3.22-bioc-rapid/R/bin/R CMD INSTALL alabaster.ranges StartedAt: 2025-05-02 06:16:06 -0400 (Fri, 02 May 2025) EndedAt: 2025-05-02 06:16:16 -0400 (Fri, 02 May 2025) EllapsedTime: 10.0 seconds RetCode: 0 Status: OK