Package: alabaster.ranges Version: 1.7.0 Command: /home/rapidbuild/bbs-3.21-bioc-rapid/R/bin/R CMD check --install=check:alabaster.ranges.install-out.txt --library=/home/rapidbuild/bbs-3.21-bioc-rapid/R/site-library --timings alabaster.ranges_1.7.0.tar.gz StartedAt: 2025-02-05 07:49:25 -0500 (Wed, 05 Feb 2025) EndedAt: 2025-02-05 07:50:53 -0500 (Wed, 05 Feb 2025) EllapsedTime: 87.8 seconds RetCode: 0 Status: OK CheckDir: alabaster.ranges.Rcheck Warnings: 0