Package: alabaster.ranges Version: 1.7.0 Command: /home/rapidbuild/bbs-3.21-bioc-rapid/R/bin/R CMD build --keep-empty-dirs --no-resave-data alabaster.ranges StartedAt: 2025-02-05 06:29:58 -0500 (Wed, 05 Feb 2025) EndedAt: 2025-02-05 06:30:12 -0500 (Wed, 05 Feb 2025) EllapsedTime: 14.3 seconds RetCode: 0 Status: OK PackageFile: alabaster.ranges_1.7.0.tar.gz PackageFileSize: 225.7 KiB