Package: alabaster.matrix Version: 1.9.0 Command: /home/rapidbuild/bbs-3.22-bioc-rapid/R/bin/R CMD build --keep-empty-dirs --no-resave-data alabaster.matrix StartedAt: 2025-05-02 06:29:31 -0400 (Fri, 02 May 2025) EndedAt: 2025-05-02 06:30:03 -0400 (Fri, 02 May 2025) EllapsedTime: 32.0 seconds RetCode: 0 Status: OK PackageFile: alabaster.matrix_1.9.0.tar.gz PackageFileSize: 274.4 KiB