Package: alabaster.base Version: 1.9.0 Command: /home/rapidbuild/bbs-3.22-bioc-rapid/R/bin/R CMD check --install=check:alabaster.base.install-out.txt --library=/home/rapidbuild/bbs-3.22-bioc-rapid/R/site-library --timings alabaster.base_1.9.0.tar.gz StartedAt: 2025-04-30 07:40:05 -0400 (Wed, 30 Apr 2025) EndedAt: 2025-04-30 07:41:27 -0400 (Wed, 30 Apr 2025) EllapsedTime: 82.0 seconds RetCode: 0 Status: WARNINGS CheckDir: alabaster.base.Rcheck Warnings: 1