Package: affyio Version: 1.79.0 Command: /home/rapidbuild/bbs-3.22-bioc-rapid/R/bin/R CMD check --install=check:affyio.install-out.txt --library=/home/rapidbuild/bbs-3.22-bioc-rapid/R/site-library --timings affyio_1.79.0.tar.gz StartedAt: 2025-05-08 07:39:47 -0400 (Thu, 08 May 2025) EndedAt: 2025-05-08 07:39:59 -0400 (Thu, 08 May 2025) EllapsedTime: 12.0 seconds RetCode: 0 Status: WARNINGS CheckDir: affyio.Rcheck Warnings: 2