Package: affyio Version: 1.79.0 Command: /home/rapidbuild/bbs-3.22-bioc-rapid/R/bin/R CMD build --keep-empty-dirs --no-resave-data affyio StartedAt: 2025-04-29 06:28:04 -0400 (Tue, 29 Apr 2025) EndedAt: 2025-04-29 06:28:05 -0400 (Tue, 29 Apr 2025) EllapsedTime: 1.0 seconds RetCode: 0 Status: OK PackageFile: affyio_1.79.0.tar.gz PackageFileSize: 107.8 KiB