Package: affyPLM Version: 1.83.3 Command: /home/rapidbuild/bbs-3.21-bioc-rapid/R/bin/R CMD INSTALL affyPLM StartedAt: 2025-02-05 06:26:24 -0500 (Wed, 05 Feb 2025) EndedAt: 2025-02-05 06:26:43 -0500 (Wed, 05 Feb 2025) EllapsedTime: 18.4 seconds RetCode: 0 Status: OK