Package: affyPLM Version: 1.83.3 Command: /home/rapidbuild/bbs-3.21-bioc-rapid/R/bin/R CMD build --keep-empty-dirs --no-resave-data affyPLM StartedAt: 2025-02-05 06:29:24 -0500 (Wed, 05 Feb 2025) EndedAt: 2025-02-05 06:30:50 -0500 (Wed, 05 Feb 2025) EllapsedTime: 85.8 seconds RetCode: 0 Status: OK PackageFile: affyPLM_1.83.3.tar.gz PackageFileSize: 7.157 MiB