Package: affyPLM Version: 1.83.3 Maintainer: Ben Bolstad MaintainerEmail: bmb at bmbolstad.com git_url: https://git.bioconductor.org/packages/affyPLM git_branch: devel git_last_commit: d5e983d git_last_commit_date: 2025-01-29 10:23:37 -0500 (Wed, 29 Jan 2025)