Package: affy Version: 1.85.1 Command: /home/rapidbuild/bbs-3.21-bioc-rapid/R/bin/R CMD check --install=check:affy.install-out.txt --library=/home/rapidbuild/bbs-3.21-bioc-rapid/R/site-library --timings affy_1.85.1.tar.gz StartedAt: 2025-02-05 07:49:07 -0500 (Wed, 05 Feb 2025) EndedAt: 2025-02-05 07:51:37 -0500 (Wed, 05 Feb 2025) EllapsedTime: 149.8 seconds RetCode: 0 Status: WARNINGS CheckDir: affy.Rcheck Warnings: 1