Package: affxparser Version: 1.79.1 Command: /home/rapidbuild/bbs-3.21-bioc-rapid/R/bin/R CMD INSTALL affxparser StartedAt: 2025-02-05 06:04:32 -0500 (Wed, 05 Feb 2025) EndedAt: 2025-02-05 06:05:40 -0500 (Wed, 05 Feb 2025) EllapsedTime: 68.2 seconds RetCode: 0 Status: OK