Package: Wrench Version: 1.25.0 Command: /home/rapidbuild/bbs-3.21-bioc-rapid/R/bin/R CMD INSTALL Wrench StartedAt: 2025-02-11 06:08:26 -0500 (Tue, 11 Feb 2025) EndedAt: 2025-02-11 06:08:28 -0500 (Tue, 11 Feb 2025) EllapsedTime: 2.2 seconds RetCode: 0 Status: OK