Package: VariantAnnotation Version: 1.53.1 Command: /home/rapidbuild/bbs-3.21-bioc-rapid/R/bin/R CMD check --install=check:VariantAnnotation.install-out.txt --library=/home/rapidbuild/bbs-3.21-bioc-rapid/R/site-library --timings VariantAnnotation_1.53.1.tar.gz StartedAt: 2025-02-05 09:41:48 -0500 (Wed, 05 Feb 2025) EndedAt: 2025-02-05 09:49:50 -0500 (Wed, 05 Feb 2025) EllapsedTime: 481.6 seconds RetCode: 0 Status: WARNINGS CheckDir: VariantAnnotation.Rcheck Warnings: 2