Package: UCSC.utils Version: 1.5.0 Command: /home/rapidbuild/bbs-3.22-bioc-rapid/R/bin/R CMD check --install=check:UCSC.utils.install-out.txt --library=/home/rapidbuild/bbs-3.22-bioc-rapid/R/site-library --timings UCSC.utils_1.5.0.tar.gz StartedAt: 2025-05-04 09:28:57 -0400 (Sun, 04 May 2025) EndedAt: 2025-05-04 09:29:48 -0400 (Sun, 04 May 2025) EllapsedTime: 51.0 seconds RetCode: 0 Status: OK CheckDir: UCSC.utils.Rcheck Warnings: 0