Package: UCSC.utils Version: 1.5.0 Command: /home/rapidbuild/bbs-3.22-bioc-rapid/R/bin/R CMD build --keep-empty-dirs --no-resave-data UCSC.utils StartedAt: 2025-05-04 07:36:31 -0400 (Sun, 04 May 2025) EndedAt: 2025-05-04 07:36:40 -0400 (Sun, 04 May 2025) EllapsedTime: 9.0 seconds RetCode: 0 Status: OK PackageFile: UCSC.utils_1.5.0.tar.gz PackageFileSize: 230.6 KiB