Package: UCSC.utils Version: 1.7.0 Maintainer: Hervé Pagès MaintainerEmail: hpages.on.github at gmail.com git_url: https://git.bioconductor.org/packages/UCSC.utils git_branch: devel git_last_commit: 959bf10 git_last_commit_date: 2025-10-29 14:45:25 -0400 (Wed, 29 Oct 2025)