Package: TCGAbiolinks Version: 2.35.2 Command: /home/rapidbuild/bbs-3.21-bioc-rapid/R/bin/R CMD INSTALL TCGAbiolinks StartedAt: 2025-02-05 06:21:59 -0500 (Wed, 05 Feb 2025) EndedAt: 2025-02-05 06:22:36 -0500 (Wed, 05 Feb 2025) EllapsedTime: 36.4 seconds RetCode: 0 Status: OK