Package: TCGAbiolinks Version: 2.35.2 Command: /home/rapidbuild/bbs-3.21-bioc-rapid/R/bin/R CMD check --install=check:TCGAbiolinks.install-out.txt --library=/home/rapidbuild/bbs-3.21-bioc-rapid/R/site-library --timings TCGAbiolinks_2.35.2.tar.gz StartedAt: 2025-02-05 09:38:10 -0500 (Wed, 05 Feb 2025) EndedAt: 2025-02-05 09:51:46 -0500 (Wed, 05 Feb 2025) EllapsedTime: 816.0 seconds RetCode: 0 Status: WARNINGS CheckDir: TCGAbiolinks.Rcheck Warnings: 2