Package: TCGAbiolinks Version: 2.35.2 Command: /home/rapidbuild/bbs-3.21-bioc-rapid/R/bin/R CMD build --keep-empty-dirs --no-resave-data TCGAbiolinks StartedAt: 2025-02-05 07:42:04 -0500 (Wed, 05 Feb 2025) EndedAt: 2025-02-05 07:47:12 -0500 (Wed, 05 Feb 2025) EllapsedTime: 307.5 seconds RetCode: 0 Status: OK PackageFile: TCGAbiolinks_2.35.2.tar.gz PackageFileSize: 63.76 MiB