Package: TCGAbiolinks Version: 2.35.2 Maintainer: Tiago Chedraoui Silva MaintainerEmail: tiagochst at gmail.com git_url: https://git.bioconductor.org/packages/TCGAbiolinks git_branch: devel git_last_commit: b431dc91 git_last_commit_date: 2025-02-02 22:06:34 -0500 (Sun, 02 Feb 2025)