Package: SummarizedExperiment Version: 1.37.0 Command: /home/rapidbuild/bbs-3.21-bioc-rapid/R/bin/R CMD check --install=check:SummarizedExperiment.install-out.txt --library=/home/rapidbuild/bbs-3.21-bioc-rapid/R/site-library --timings SummarizedExperiment_1.37.0.tar.gz StartedAt: 2025-02-06 09:32:09 -0500 (Thu, 06 Feb 2025) EndedAt: 2025-02-06 09:35:02 -0500 (Thu, 06 Feb 2025) EllapsedTime: 172.7 seconds RetCode: 0 Status: OK CheckDir: SummarizedExperiment.Rcheck Warnings: 0