Package: SummarizedExperiment Version: 1.39.0 Command: /home/rapidbuild/bbs-3.22-bioc-rapid/R/bin/R CMD build --keep-empty-dirs --no-resave-data SummarizedExperiment StartedAt: 2025-05-19 13:32:13 -0400 (Mon, 19 May 2025) EndedAt: 2025-05-19 13:32:54 -0400 (Mon, 19 May 2025) EllapsedTime: 40.6 seconds RetCode: 0 Status: OK PackageFile: SummarizedExperiment_1.39.0.tar.gz PackageFileSize: 672.7 KiB