Package: Spectra Version: 1.17.5 Command: /home/rapidbuild/bbs-3.21-bioc-rapid/R/bin/R CMD check --install=check:Spectra.install-out.txt --library=/home/rapidbuild/bbs-3.21-bioc-rapid/R/site-library --timings Spectra_1.17.5.tar.gz StartedAt: 2025-02-05 09:34:55 -0500 (Wed, 05 Feb 2025) EndedAt: 2025-02-05 09:40:57 -0500 (Wed, 05 Feb 2025) EllapsedTime: 361.9 seconds RetCode: 0 Status: OK CheckDir: Spectra.Rcheck Warnings: 0