Package: SparseArray Version: 1.7.5 Command: /home/rapidbuild/bbs-3.21-bioc-rapid/R/bin/R CMD build --keep-empty-dirs --no-resave-data SparseArray StartedAt: 2025-02-10 07:42:40 -0500 (Mon, 10 Feb 2025) EndedAt: 2025-02-10 07:43:35 -0500 (Mon, 10 Feb 2025) EllapsedTime: 54.6 seconds RetCode: 0 Status: OK PackageFile: SparseArray_1.7.5.tar.gz PackageFileSize: 455.2 KiB