Package: SparseArray Version: 1.7.5 Maintainer: Hervé Pagès MaintainerEmail: hpages.on.github at gmail.com git_url: https://git.bioconductor.org/packages/SparseArray git_branch: devel git_last_commit: 25a0633 git_last_commit_date: 2025-02-02 23:41:55 -0500 (Sun, 02 Feb 2025)