Package: SingleR Version: 2.13.0 Command: /home/rapidbuild/bbs-3.23-bioc-rapid/R/bin/R CMD build --keep-empty-dirs --no-resave-data SingleR StartedAt: 2025-11-19 07:33:12 -0500 (Wed, 19 Nov 2025) EndedAt: 2025-11-19 07:34:45 -0500 (Wed, 19 Nov 2025) EllapsedTime: 92.9 seconds RetCode: 0 Status: OK PackageFile: SingleR_2.13.0.tar.gz PackageFileSize: 675.3 KiB