Package: SingleCellExperiment Version: 1.29.1 Command: /home/rapidbuild/bbs-3.21-bioc-rapid/R/bin/R CMD INSTALL SingleCellExperiment StartedAt: 2025-02-05 06:18:03 -0500 (Wed, 05 Feb 2025) EndedAt: 2025-02-05 06:18:28 -0500 (Wed, 05 Feb 2025) EllapsedTime: 25.9 seconds RetCode: 0 Status: OK