Package: SingleCellExperiment Version: 1.29.1 Command: /home/rapidbuild/bbs-3.21-bioc-rapid/R/bin/R CMD build --keep-empty-dirs --no-resave-data SingleCellExperiment StartedAt: 2025-02-05 07:39:05 -0500 (Wed, 05 Feb 2025) EndedAt: 2025-02-05 07:40:06 -0500 (Wed, 05 Feb 2025) EllapsedTime: 61.3 seconds RetCode: 0 Status: OK PackageFile: SingleCellExperiment_1.29.1.tar.gz PackageFileSize: 962.7 KiB