Package: ShortRead Version: 1.65.0 Command: /home/rapidbuild/bbs-3.21-bioc-rapid/R/bin/R CMD INSTALL ShortRead StartedAt: 2025-02-05 06:24:07 -0500 (Wed, 05 Feb 2025) EndedAt: 2025-02-05 06:24:50 -0500 (Wed, 05 Feb 2025) EllapsedTime: 43.3 seconds RetCode: 0 Status: OK