Package: ScaledMatrix Version: 1.15.0 Command: /home/rapidbuild/bbs-3.21-bioc-rapid/R/bin/R CMD INSTALL ScaledMatrix StartedAt: 2025-02-05 06:13:56 -0500 (Wed, 05 Feb 2025) EndedAt: 2025-02-05 06:14:10 -0500 (Wed, 05 Feb 2025) EllapsedTime: 14.4 seconds RetCode: 0 Status: OK