Package: ScaledMatrix Version: 1.15.0 Command: /home/rapidbuild/bbs-3.21-bioc-rapid/R/bin/R CMD check --install=check:ScaledMatrix.install-out.txt --library=/home/rapidbuild/bbs-3.21-bioc-rapid/R/site-library --timings ScaledMatrix_1.15.0.tar.gz StartedAt: 2025-02-05 09:24:15 -0500 (Wed, 05 Feb 2025) EndedAt: 2025-02-05 09:27:48 -0500 (Wed, 05 Feb 2025) EllapsedTime: 212.6 seconds RetCode: 0 Status: OK CheckDir: ScaledMatrix.Rcheck Warnings: 0