Package: SPIA Version: 2.59.2 Command: /home/rapidbuild/bbs-3.21-bioc-rapid/R/bin/R CMD INSTALL SPIA StartedAt: 2025-02-05 06:13:06 -0500 (Wed, 05 Feb 2025) EndedAt: 2025-02-05 06:13:11 -0500 (Wed, 05 Feb 2025) EllapsedTime: 5.0 seconds RetCode: 0 Status: OK