Package: S4Vectors Version: 0.47.0 Command: /home/rapidbuild/bbs-3.22-bioc-rapid/R/bin/R CMD INSTALL S4Vectors StartedAt: 2025-05-02 06:10:27 -0400 (Fri, 02 May 2025) EndedAt: 2025-05-02 06:10:45 -0400 (Fri, 02 May 2025) EllapsedTime: 18.2 seconds RetCode: 0 Status: OK