############################################################################## ############################################################################## ### ### Running command: ### ### /home/rapidbuild/bbs-3.21-bioc-rapid/R/bin/R CMD INSTALL S4Vectors ### ############################################################################## ############################################################################## * installing to library ‘/media/volume/teran2_disk/rapidbuild/bbs-3.21-bioc-rapid/R/site-library’ * installing *source* package ‘S4Vectors’ ... ** this is package ‘S4Vectors’ version ‘0.45.4’ ** using staged installation ** libs using C compiler: ‘gcc (Ubuntu 13.3.0-6ubuntu2~24.04) 13.3.0’ gcc -I"/home/rapidbuild/bbs-3.21-bioc-rapid/R/include" -DNDEBUG -I/usr/local/include -fpic -g -O2 -Wall -Werror=format-security -c AEbufs.c -o AEbufs.o gcc -I"/home/rapidbuild/bbs-3.21-bioc-rapid/R/include" -DNDEBUG -I/usr/local/include -fpic -g -O2 -Wall -Werror=format-security -c DataFrame_class.c -o DataFrame_class.o gcc -I"/home/rapidbuild/bbs-3.21-bioc-rapid/R/include" -DNDEBUG -I/usr/local/include -fpic -g -O2 -Wall -Werror=format-security -c Hits_class.c -o Hits_class.o In file included from /usr/include/string.h:548, from /home/rapidbuild/bbs-3.21-bioc-rapid/R/include/R_ext/RS.h:34, from /home/rapidbuild/bbs-3.21-bioc-rapid/R/include/Rdefines.h:38, from ../inst/include/S4Vectors_defines.h:18, from S4Vectors.h:1, from Hits_class.c:4: In function ‘memcpy’, inlined from ‘tsort_hits’ at Hits_class.c:113:3: /usr/include/x86_64-linux-gnu/bits/string_fortified.h:29:10: warning: ‘__builtin_memcpy’ specified bound between 18446744065119617024 and 18446744073709551612 exceeds maximum object size 9223372036854775807 [-Wstringop-overflow=] 29 | return __builtin___memcpy_chk (__dest, __src, __len, | ^~~~~~~~~~~~~~~~~~~~~~~~~~~~~~~~~~~~~~~~~~~~~ 30 | __glibc_objsize0 (__dest)); | ~~~~~~~~~~~~~~~~~~~~~~~~~~ In file included from /home/rapidbuild/bbs-3.21-bioc-rapid/R/include/Rdefines.h:41: Hits_class.c: In function ‘Hits_new’: /home/rapidbuild/bbs-3.21-bioc-rapid/R/include/Rinternals.h:919:33: warning: ‘revmap’ may be used uninitialized [-Wmaybe-uninitialized] 919 | #define defineVar Rf_defineVar Hits_class.c:244:9: note: in expansion of macro ‘defineVar’ 244 | defineVar(install(translateChar(symbol)), revmap, revmap_envir); | ^~~~~~~~~ Hits_class.c:219:19: note: ‘revmap’ was declared here 219 | SEXP ans, revmap, symbol; | ^~~~~~ Hits_class.c: In function ‘select_hits’: Hits_class.c:348:48: warning: ‘is_used’ may be used uninitialized [-Wmaybe-uninitialized] 348 | is_used->elts[ans_elt - 1] = 1; | ~~~~~~~^~~~~~ Hits_class.c:313:17: note: ‘is_used’ was declared here 313 | CharAE *is_used; | ^~~~~~~ gcc -I"/home/rapidbuild/bbs-3.21-bioc-rapid/R/include" -DNDEBUG -I/usr/local/include -fpic -g -O2 -Wall -Werror=format-security -c LLint_class.c -o LLint_class.o gcc -I"/home/rapidbuild/bbs-3.21-bioc-rapid/R/include" -DNDEBUG -I/usr/local/include -fpic -g -O2 -Wall -Werror=format-security -c List_class.c -o List_class.o gcc -I"/home/rapidbuild/bbs-3.21-bioc-rapid/R/include" -DNDEBUG -I/usr/local/include -fpic -g -O2 -Wall -Werror=format-security -c R_init_S4Vectors.c -o R_init_S4Vectors.o gcc -I"/home/rapidbuild/bbs-3.21-bioc-rapid/R/include" -DNDEBUG -I/usr/local/include -fpic -g -O2 -Wall -Werror=format-security -c Rle_class.c -o Rle_class.o gcc -I"/home/rapidbuild/bbs-3.21-bioc-rapid/R/include" -DNDEBUG -I/usr/local/include -fpic -g -O2 -Wall -Werror=format-security -c Rle_utils.c -o Rle_utils.o gcc -I"/home/rapidbuild/bbs-3.21-bioc-rapid/R/include" -DNDEBUG -I/usr/local/include -fpic -g -O2 -Wall -Werror=format-security -c SEXP_utils.c -o SEXP_utils.o gcc -I"/home/rapidbuild/bbs-3.21-bioc-rapid/R/include" -DNDEBUG -I/usr/local/include -fpic -g -O2 -Wall -Werror=format-security -c SimpleList_class.c -o SimpleList_class.o gcc -I"/home/rapidbuild/bbs-3.21-bioc-rapid/R/include" -DNDEBUG -I/usr/local/include -fpic -g -O2 -Wall -Werror=format-security -c anyMissing.c -o anyMissing.o gcc -I"/home/rapidbuild/bbs-3.21-bioc-rapid/R/include" -DNDEBUG -I/usr/local/include -fpic -g -O2 -Wall -Werror=format-security -c character_utils.c -o character_utils.o gcc -I"/home/rapidbuild/bbs-3.21-bioc-rapid/R/include" -DNDEBUG -I/usr/local/include -fpic -g -O2 -Wall -Werror=format-security -c eval_utils.c -o eval_utils.o gcc -I"/home/rapidbuild/bbs-3.21-bioc-rapid/R/include" -DNDEBUG -I/usr/local/include -fpic -g -O2 -Wall -Werror=format-security -c hash_utils.c -o hash_utils.o gcc -I"/home/rapidbuild/bbs-3.21-bioc-rapid/R/include" -DNDEBUG -I/usr/local/include -fpic -g -O2 -Wall -Werror=format-security -c integer_utils.c -o integer_utils.o gcc -I"/home/rapidbuild/bbs-3.21-bioc-rapid/R/include" -DNDEBUG -I/usr/local/include -fpic -g -O2 -Wall -Werror=format-security -c logical_utils.c -o logical_utils.o gcc -I"/home/rapidbuild/bbs-3.21-bioc-rapid/R/include" -DNDEBUG -I/usr/local/include -fpic -g -O2 -Wall -Werror=format-security -c map_ranges_to_runs.c -o map_ranges_to_runs.o gcc -I"/home/rapidbuild/bbs-3.21-bioc-rapid/R/include" -DNDEBUG -I/usr/local/include -fpic -g -O2 -Wall -Werror=format-security -c raw_utils.c -o raw_utils.o gcc -I"/home/rapidbuild/bbs-3.21-bioc-rapid/R/include" -DNDEBUG -I/usr/local/include -fpic -g -O2 -Wall -Werror=format-security -c safe_arithm.c -o safe_arithm.o gcc -I"/home/rapidbuild/bbs-3.21-bioc-rapid/R/include" -DNDEBUG -I/usr/local/include -fpic -g -O2 -Wall -Werror=format-security -c sort_utils.c -o sort_utils.o sort_utils.c:267:13: warning: ‘sort_uchar_array’ defined but not used [-Wunused-function] 267 | static void sort_uchar_array(unsigned char *x, int nelt, int desc) | ^~~~~~~~~~~~~~~~ gcc -I"/home/rapidbuild/bbs-3.21-bioc-rapid/R/include" -DNDEBUG -I/usr/local/include -fpic -g -O2 -Wall -Werror=format-security -c subsetting_utils.c -o subsetting_utils.o gcc -I"/home/rapidbuild/bbs-3.21-bioc-rapid/R/include" -DNDEBUG -I/usr/local/include -fpic -g -O2 -Wall -Werror=format-security -c vector_utils.c -o vector_utils.o gcc -shared -L/usr/local/lib -o S4Vectors.so AEbufs.o DataFrame_class.o Hits_class.o LLint_class.o List_class.o R_init_S4Vectors.o Rle_class.o Rle_utils.o SEXP_utils.o SimpleList_class.o anyMissing.o character_utils.o eval_utils.o hash_utils.o integer_utils.o logical_utils.o map_ranges_to_runs.o raw_utils.o safe_arithm.o sort_utils.o subsetting_utils.o vector_utils.o installing to /media/volume/teran2_disk/rapidbuild/bbs-3.21-bioc-rapid/R/site-library/00LOCK-S4Vectors/00new/S4Vectors/libs ** R ** inst ** byte-compile and prepare package for lazy loading in method for ‘normalizeSingleBracketReplacementValue’ with signature ‘"List"’: no definition for class “List†Creating a new generic function for ‘unname’ in package ‘S4Vectors’ Creating a new generic function for ‘expand.grid’ in package ‘S4Vectors’ Creating a new generic function for ‘findMatches’ in package ‘S4Vectors’ in method for ‘coerce’ with signature ‘"Hits","DFrame"’: no definition for class “DFrame†Creating a generic function for ‘as.factor’ from package ‘base’ in package ‘S4Vectors’ Creating a generic function for ‘tabulate’ from package ‘base’ in package ‘S4Vectors’ Creating a generic function for ‘cov’ from package ‘stats’ in package ‘S4Vectors’ Creating a generic function for ‘cor’ from package ‘stats’ in package ‘S4Vectors’ Creating a generic function for ‘smoothEnds’ from package ‘stats’ in package ‘S4Vectors’ Creating a generic function for ‘runmed’ from package ‘stats’ in package ‘S4Vectors’ Creating a generic function for ‘nchar’ from package ‘base’ in package ‘S4Vectors’ Creating a generic function for ‘substr’ from package ‘base’ in package ‘S4Vectors’ Creating a generic function for ‘substring’ from package ‘base’ in package ‘S4Vectors’ Creating a generic function for ‘chartr’ from package ‘base’ in package ‘S4Vectors’ Creating a generic function for ‘tolower’ from package ‘base’ in package ‘S4Vectors’ Creating a generic function for ‘toupper’ from package ‘base’ in package ‘S4Vectors’ Creating a generic function for ‘sub’ from package ‘base’ in package ‘S4Vectors’ Creating a generic function for ‘gsub’ from package ‘base’ in package ‘S4Vectors’ Creating a generic function for ‘nlevels’ from package ‘base’ in package ‘S4Vectors’ in method for ‘coerce’ with signature ‘"data.table","DFrame"’: no definition for class “data.table†Creating a generic function for ‘complete.cases’ from package ‘stats’ in package ‘S4Vectors’ ** help *** installing help indices ** building package indices ** installing vignettes ** testing if installed package can be loaded from temporary location ** checking absolute paths in shared objects and dynamic libraries ** testing if installed package can be loaded from final location ** testing if installed package keeps a record of temporary installation path * DONE (S4Vectors)