Package: S4Vectors Version: 0.47.0 Command: /home/rapidbuild/bbs-3.22-bioc-rapid/R/bin/R CMD build --keep-empty-dirs --no-resave-data S4Vectors StartedAt: 2025-05-03 07:23:07 -0400 (Sat, 03 May 2025) EndedAt: 2025-05-03 07:23:53 -0400 (Sat, 03 May 2025) EllapsedTime: 46.3 seconds RetCode: 0 Status: OK PackageFile: S4Vectors_0.47.0.tar.gz PackageFileSize: 1.023 MiB