Package: S4Arrays Version: 1.7.2 Command: /home/rapidbuild/bbs-3.21-bioc-rapid/R/bin/R CMD INSTALL S4Arrays StartedAt: 2025-02-05 06:12:19 -0500 (Wed, 05 Feb 2025) EndedAt: 2025-02-05 06:12:33 -0500 (Wed, 05 Feb 2025) EllapsedTime: 14.0 seconds RetCode: 0 Status: OK