Package: S4Arrays Version: 1.7.2 Command: /home/rapidbuild/bbs-3.21-bioc-rapid/R/bin/R CMD build --keep-empty-dirs --no-resave-data S4Arrays StartedAt: 2025-02-05 07:33:31 -0500 (Wed, 05 Feb 2025) EndedAt: 2025-02-05 07:33:50 -0500 (Wed, 05 Feb 2025) EllapsedTime: 19.0 seconds RetCode: 0 Status: OK PackageFile: S4Arrays_1.7.2.tar.gz PackageFileSize: 279.7 KiB